BEGIN:VCALENDAR
VERSION:2.0
PRODID:-//Springfield Kids Directory - ECPv6.15.12.2//NONSGML v1.0//EN
CALSCALE:GREGORIAN
METHOD:PUBLISH
X-ORIGINAL-URL:https://springfieldkids.com
X-WR-CALDESC:Events for Springfield Kids Directory
REFRESH-INTERVAL;VALUE=DURATION:PT1H
X-Robots-Tag:noindex
X-PUBLISHED-TTL:PT1H
BEGIN:VTIMEZONE
TZID:America/Chicago
BEGIN:DAYLIGHT
TZOFFSETFROM:-0600
TZOFFSETTO:-0500
TZNAME:CDT
DTSTART:20240310T080000
END:DAYLIGHT
BEGIN:STANDARD
TZOFFSETFROM:-0500
TZOFFSETTO:-0600
TZNAME:CST
DTSTART:20241103T070000
END:STANDARD
BEGIN:DAYLIGHT
TZOFFSETFROM:-0600
TZOFFSETTO:-0500
TZNAME:CDT
DTSTART:20250309T080000
END:DAYLIGHT
BEGIN:STANDARD
TZOFFSETFROM:-0500
TZOFFSETTO:-0600
TZNAME:CST
DTSTART:20251102T070000
END:STANDARD
BEGIN:DAYLIGHT
TZOFFSETFROM:-0600
TZOFFSETTO:-0500
TZNAME:CDT
DTSTART:20260308T080000
END:DAYLIGHT
BEGIN:STANDARD
TZOFFSETFROM:-0500
TZOFFSETTO:-0600
TZNAME:CST
DTSTART:20261101T070000
END:STANDARD
END:VTIMEZONE
BEGIN:VEVENT
DTSTART;TZID=America/Chicago:20250906T090000
DTEND;TZID=America/Chicago:20250906T160000
DTSTAMP:20260421T063929
CREATED:20250825T195829Z
LAST-MODIFIED:20250825T195829Z
UID:2438-1757149200-1757174400@springfieldkids.com
SUMMARY:51st Annual Country Days\, Bolivar
DESCRIPTION:Bring your family along to enjoy this festive event in downtown Bolivar. Country Days has a wide variety of entertainment\, contests\, and vendor stalls for your whole family to enjoy. \n  \n \n  \nWhat’s at the festival? \nThere is so much to do at Country Days! There will be food\, a car show\, vendors\, putt-putt golf\, trivia trailer game show\, and two stages\, located on Main Street and on Springfield Street\, with entertaining performances you won’t wanna miss! This year\, they are also bringing in a golf simulator and a mustache\, beard\, and mullet competition. \nThere will be bathrooms available in the court building as well as porta-potties outside. \n  \nHow much does it cost? \nAttending the event is free! \nMake sure to bring a little extra cash in case you want to buy anything from the vendors or grab a snack while you’re there. \n  \nWhere is it? \nDowntown Bolivar\, specifically around the square. \n  \nWhere do I park? \nParking for the event will be street parking around the area. \n  \nWhen is it? \nSeptember 6 \nSaturday from 9 am to 4 pm \n  \nWant more information? \nCheck out their Facebook page: https://www.facebook.com/events/bolivar-mo-united-states-missouri-65613/country-days-2025/1465057677865263/
URL:https://springfieldkids.com/event/51st-annual-country-days-bolivar/
LOCATION:Downtown Bolivar\, 120 E Jackson St\, Bolivar\, MO\, 65613\, United States
END:VEVENT
BEGIN:VEVENT
DTSTART;VALUE=DATE:20250906
DTEND;VALUE=DATE:20250907
DTSTAMP:20260421T063929
CREATED:20250820T171657Z
LAST-MODIFIED:20250820T171657Z
UID:2234-1757116800-1757203199@springfieldkids.com
SUMMARY:3rd Annual Rosebud's Cottage Fall Festival in Nixa
DESCRIPTION:This year on September 6th\, Rosebud’s Cottage in Nixa welcomes you to their fall festival! This year promises to be bigger and better than ever! Plus admission and parking are free! \n  \nHours:\n\n9am-4pm\n\n  \nWhat You’ll Find:\n\n\nHandmade Goods\nFall Décor\nBoutique Fashion\nHome Items\nSweets\nFood Trucks\nKids Zone\nBounce Houses & Slides\nYard Games\nChalk Art\nMuddy Hooves Petting Zoo\nFace Painting\nAnd More!\n\nThe event’s website has a disclaimer that some activities may include a small fee.\n  \nInside Rosebud’s Cottage:\n\n20+ Small Shops\nPermanent Jewelry with Divine Linx Permanent Jewelry\nGiveaways\nSeasonal Specials\n\n  \nWant to be a Vendor at this Year’s Festival? Apply now: https://www.midwesteventsandpromotions.com/\n  \nHelpful Tips!\nIt may be a good idea to bring a stroller for the comfort and safety of younger children. Some vendors may be cash only\, so plan accordingly. Free onsite parking provided at Rosebud’s Cottage at 205 N Main Street in Nixa!
URL:https://springfieldkids.com/event/3rd-annual-rosebuds-cottage-fall-festival-in-nixa/
LOCATION:Rosebud’s Cottage\, 205 N Main Street\, Nixa\, MO\, United States
END:VEVENT
BEGIN:VEVENT
DTSTART;VALUE=DATE:20250905
DTEND;VALUE=DATE:20250908
DTSTAMP:20260421T063929
CREATED:20250815T153838Z
LAST-MODIFIED:20250820T191711Z
UID:1793-1757030400-1757289599@springfieldkids.com
SUMMARY:29th Annual Japanese Fall Festival\, Springfield
DESCRIPTION:Springfield is celebrating its Japanese culture with its sister city\, Isesaki\, with a fun filled festival on September 5-7\, 2025 at the Mizumoto Japanese Stroll Garden. This festival is bringing Japanese culture right to Springfield with performances of Japanese art\, dancing and music\, souvenirs and traditional clothing\, and delicious food that is popular in Japan. \n  \n \nImage: ID 85219272 © Korn Vitthayanukarun | Dreamstime.com\n  \nWhat’s at the festival? \n\nPerformances by Samurai Sword Soul\n\nThe Samurai Sword Soul is the headliner of this year’s festival. They are a New York-based theater group showcasing traditional sword fighting with comedy and drama.\n\n\nAuthentic souvenir and snack tents\n\nThere will be a variety of Japanese food and snacks to choose from as well as a Tea Cafe.\n\n\nDance performance by KiRa KiRa\n\nEnjoy dance covers in the form of cosplay.\n\n\nJapanese drumming performances\n\nThere will be two drumming groups this year performing for you to enjoy.\n\n\nHologram Show hosted by Springfield Cosplay\n\nThe show will be on Saturday and Springfield Cosplay will have its own showcase on Sunday.\n\n\nBENTENYA\n\nJapanese Chindon girls will perform music on their journey to meet new people and share Japanese culture.\n\n\nKizuna Japanese American Friendship Group\n\nLocal group that works to build Japanese and American friendships. They lead a lot of the Japanese festivals stalls and events.\n\n\nLarge-scale calligraphy by Seiran Chiba\n\n\n\n\nYukata Try-On\n\n\n\n\nCandlelight Walk and Wishing Lanterns\n\nEnjoy a night-time stroll with torch-lit garden pathways and wishing lanterns on koi ponds.\n\n\n\n  \n \nID 26872424 © Cebas1 | Dreamstime.com\n  \nHow much does it cost?\nTickets can be purchased at the gate with cash or card. \nFriday: $9 \nSaturday: $14 \nSunday: $9 and $4 for person in cosplay \nOnly $4 for children ages 3-12 all three days! \n  \nTickets must be purchased the day of attendance. \nMembers of the Springfield Sister Association get in free all weekend!\nMembership pricing ranges from $10 for a student to $60 for a family. Charged annually. \n  \nWhen is it?\nThe Japanese fall festival is September 5-7\, 2025\nFriday 5 pm-10 pm\nSaturday 11 am-10 pm\nSunday 11 am-6 pm \n  \nWhere is the Japanese Fall Festival? \nMizumoto Japanese Stroll Garden\, 2400 S. Scenic Ave.\, Springfield\, MO \nIt’s a park so pets are welcome! \n  \nTraffic/Where do I park? \nThe park staff will let you know where to park when you arrive. The parking spot may or may not be paved. Please let the staff know of any mobility concerns to help with parking placement. \nTo help with the flow of traffic there will be no left turns entering or exiting the park. \nStarting August 4\, West Sunshine Street will be closed for four months. This may call for a route alteration on your way to the park. \nParking is free! \n  \nWant to Help?\nIf you would like to volunteer for the Japanese fall festival\, you can apply on their website peacethroughpeople.org. Any age is welcome but they recommend that ages 15 and under are accompanied by an adult.\nVolunteers get free admission on the day of their shift! \n  \nWant more information? \nCheck out their website: peacethroughpeople.org 
URL:https://springfieldkids.com/event/29th-annual-japanese-fall-festival-springfield/
LOCATION:Mizumoto Japanese Stroll Garden\, 2400 S Scenic Ave\, Springfield\, MO\, 65807\, United States
END:VEVENT
BEGIN:VEVENT
DTSTART;VALUE=DATE:20250905
DTEND;VALUE=DATE:20250907
DTSTAMP:20260421T063929
CREATED:20250825T141921Z
LAST-MODIFIED:20250825T141921Z
UID:2362-1757030400-1757203199@springfieldkids.com
SUMMARY:22nd Annual Southwest Missouri Celtic Heritage Festival and Highland Games in Buffalo
DESCRIPTION:This September 5th and 6th\, make the trip to Buffalo for a day that celebrates Celtic culture and community. This event honors the vibrant legacy of the Celtic people who settled the Buffalo Head Prairie and helped shape Buffalo and the surrounding area into what it is today. \n  \nTicket Information:\n\nFriday night is free admission: preview some of the vendors and clans\, enjoy live music\, food\, and cultural displays\, as well as attend the Calling of The Clans Ceremony\nSaturday Admission – $10 each for adults\, $5 for senior citizens (60+) and kids (8-16)\nChildren 7 and under get in free\nFamily Pass (2 adults & 2 children) – $25\nPurchase tickets at the Event Website\n\n  \nHours:\n\nFriday 5 pm-8 pm\nSaturday 9 am-6 pm\n\n  \nWhat to Expect:\n\n\nBraemar Stone Toss\nHeavy and Light Hammer Throws\nSheaf Toss\nLive Celtic Music & Dance\nHeritage Exhibits \nClan Tents\nAuthentic Foods\nHand-Crafted Goods\nInteractive Activities for all Ages\nAnd More!\n\n  \nHighlighted Amenities:\n\nHandicap Accessible Bathrooms\nADA Compliant Porta-Potties\nLeashed Dogs Welcome with Proof of Vaccination\nTwo Parking Lots\, with One Dedicated to Handicapped Parking\nPaved Walking Areas\n\n  \nHelpful Tips!\nIt may be a good idea to bring a stroller for the comfort and safety of younger children. Some vendors may be cash only\, and there will be no ATMs on-site so plan accordingly. This event can be found at 401 E. Park Dr. in Buffalo. For additional information or to become a vendor\, visit them on their website or Facebook page.
URL:https://springfieldkids.com/event/22nd-annual-southwest-missouri-celtic-heritage-festival-and-highland-games-in-buffalo/
LOCATION:401 E. Park Dr.\, 401 E. Park Dr.\, Buffalo\, MO\, United States
END:VEVENT
BEGIN:VEVENT
DTSTART;TZID=America/Chicago:20250904T100000
DTEND;TZID=America/Chicago:20250904T180000
DTSTAMP:20260421T063929
CREATED:20250826T144900Z
LAST-MODIFIED:20250826T144900Z
UID:2437-1756980000-1757008800@springfieldkids.com
SUMMARY:57th Annual Fall Festival in Neosho
DESCRIPTION:This year marks the 57th fall festival in historic downtown Neosho. This annual event is held on the first Saturday of October\, which means this year’s date will be October 4th. This is an arts & crafts-centered festival presented by the City of Neosho and supported by the local Neosho Arts Council\, the Newton County Historical Society\, and other organizations. The centerpiece of the festival is the historic courthouse square\, decked out with festive sights. So join Neosho in their free autumnal celebration! \n  \nHours:\n\nSaturday 10 am-6 pm\n\n  \nWhat to Expect:\n\n\nArtist Alley\nHistory Alley\nBounce Houses\nSidewalk Chalk Art Contest\nFood and Refreshments\nCar Show\nFamily Games & Activities\nLive Music\nDance Performances\n220+ Vendors\nAnd More!\n\n  \nHighlighted Amenities:\n\nOn-Site Bathrooms\nStroller-Friendly and Wheelchair Accessible\nLeashed and Well-Trained Dogs Permitted\nBanks on the Square\nFirst Come First Serve Street Parking\n\n  \nHelpful Tips!\nIt may be a good idea to bring a stroller for the comfort and safety of younger children. Some vendors may be cash only\, so plan accordingly. The organizers say there is not a specific address for this event\, but if you navigate to downtown Neosho it will be easy to spot as it is large and covers a wide swath of downtown. For more information\, visit them on the web or at their Facebook page!
URL:https://springfieldkids.com/event/57th-annual-fall-festival-in-neosho/
LOCATION:Downtown Historic Square\, Neosho\, MO\, United States
END:VEVENT
BEGIN:VEVENT
DTSTART;VALUE=DATE:20250830
DTEND;VALUE=DATE:20251102
DTSTAMP:20260421T063929
CREATED:20250820T211537Z
LAST-MODIFIED:20250820T211537Z
UID:2265-1756512000-1762041599@springfieldkids.com
SUMMARY:Fun on the Farm at Gardener's Orchard
DESCRIPTION:This year\, from August 30-November 1\, come down to Gardener’s Orchard for a fall fun extravaganza! September’s theme is Apple Cider Festival\, and October’s is Pumpkin Festival! Check out their website for specific times and dates\, as schedules are varied over the season. \n  \nTicket Prices:\n\n$12.99 Online\n$14.95 at Gate\nChildren 3 & Under Free\nMilitary and Senior (65+) Discount: $9.95 at gate only\nOnline Purchasers Must Show Receipt at Admission Booth\n\n  \nEach General Farm Pass Includes:\n\n\nJump Pad\nMega Slide\nBarrel Train\nTricycle Track\nGrain Hoop\nBubble Station\nPhoto Booths\nPiggly Wiggly\nHillbilly Paintball\nThe Orchard Express\nPetting Zoo\nAnd More!\n\n  \nSeptember’s Themed Events Include:\n\nApple Picking\nApple Cider\nZinnias Flowers\nSunflowers\nHay Ride\nCorn Maze\nFun Farm Activities\nDonuts \nSlushy\nCorn Pit\n\n  \nOctober’s Themed Events Include:\n\nPumpkin Patch \nPumpkin Yard\nApple Cider\nZinnias Flowers\nSunflowers\nHay Ride\nCorn Maze\nCorn Pit\nDonuts\nSlushies\n\n  \nHelpful Tips!\nParking available on-site. No pets allowed on premise with the exception of service animals. There is a bakery on-site with sweet treats and food options available for purchase. Tickets can be purchased on their website. Street address is 4455 W Farm Road 2 in Brighton.
URL:https://springfieldkids.com/event/fun-on-the-farm-at-gardeners-orchard/
LOCATION:Gardener’s Orchard & Bakery\, 4455 W Farm Road 2\, Brighton\, MO\, United States
END:VEVENT
BEGIN:VEVENT
DTSTART;VALUE=DATE:20250801
DTEND;VALUE=DATE:20251206
DTSTAMP:20260421T063929
CREATED:20250822T175453Z
LAST-MODIFIED:20250822T175453Z
UID:2347-1754006400-1764979199@springfieldkids.com
SUMMARY:First Friday Art Walk in Downtown Springfield
DESCRIPTION:Every first Friday of the month from August to December\, pack up your crew and make your way to downtown Springfield for a self-guided walking tour through small and local businesses. This free event showcases the art\, music\, food\, and fun of downtown Springfield. Whether you’re searching for a way to get out of the house with your family or simply looking to admire beautiful local art\, you won’t want to miss this! \n  \nHours:\n\nEvery First Friday from 4:30 pm-10 pm\n\n  \nParticipating Local Businesses:\n\n\nDrury Pool Arts Center Gallery\nBookmarx\nTransformation Gallery & Tattoo\nForming Art Studios\nPark Center Branch Library\nFormed: An Artist Collective\nObelisk Home\nCreamery Arts Center\nSpringfield Art Museum’s “The Art Study Club”\nHeer’s Luxury Living\nCarl’s Bad Designs\nGillioz Theatre\nBurkhart Elliott Creative\nGailey’s Breakfast Café\nHold Fast Brewing\nJim D. Morris Center for International Programs\nRobert & Margaret Carolla Arts Exhibition Center\nMSU’s Brick City Gallery\nThe Downtown Church\n\n  \n \n \nHelpful Tips! \nIt may be a good idea to bring a stroller for the comfort and safety of younger children as this walk goes down multiple busy streets. While walking around and seeing the sights is free\, each business will have their usual goods available for purchase as well. For a map and more detailed walking information\, visit the Art Walk’s website! There is plenty of free street parking\, as well as free parking at the Heer’s parking garage at 230 N Campbell Ave. For easy navigation\, simply choose which business you’d like to start your walk at and plug in the business address. All addresses are listed on the Art Walk website.
URL:https://springfieldkids.com/event/first-friday-art-walk-in-downtown-springfield/
LOCATION:Downtown Springfield\, Downtown Square\, Springfield\, MO\, 65807\, United States
END:VEVENT
BEGIN:VEVENT
DTSTART;VALUE=DATE:20250426
DTEND;VALUE=DATE:20250907
DTSTAMP:20260421T063929
CREATED:20250820T175150Z
LAST-MODIFIED:20250820T175150Z
UID:2241-1745625600-1757203199@springfieldkids.com
SUMMARY:Warsaw Farmer's Market
DESCRIPTION:Happening every Saturday until September 6th\, join the town of Warsaw at their annual farmer’s market. Located south of 7 Hwy on Commercial Street in the J&D Pharmacy parking lot\, this event offers a collection of neat finds and sweet treats! \n  \nHours:\n\nEvery Saturday 8am-12pm\n\n  \nWhat You’ll Find:\n\n\nLocal Growers\nMarket Gardeners\nCrafters\nFresh Produce\nFloral Arrangements\nResin Items\nHandmade Gourd Lamps\nPlant Hangers\nSoap\nLotion\nHandmade Crochet Animals\nAnd More!\n\n  \n  \nHelpful Tips!\nIt may be a good idea to bring a stroller for the comfort and safety of younger children. Some vendors may be cash only\, so plan accordingly. The event can be found at 1330 Commercial St in Warsaw.
URL:https://springfieldkids.com/event/warsaw-farmers-market/
LOCATION:J&D Pharmacy\, Warsaw\, MO\, United States
ORGANIZER;CN="Warsaw Farmer's Market":MAILTO:farmersmarketwarsaw@gmail.com
END:VEVENT
BEGIN:VEVENT
DTSTART;VALUE=DATE:20250405
DTEND;VALUE=DATE:20251026
DTSTAMP:20260421T063929
CREATED:20250821T232106Z
LAST-MODIFIED:20250821T232106Z
UID:2329-1743811200-1761436799@springfieldkids.com
SUMMARY:Farmer's Market in Downtown Rolla
DESCRIPTION:This fall\, swing by downtown Rolla for its weekly farmers’ market. Serving up the best farm-to-table foods and handmade crafts\, there’s sure to be something for everyone! The market’s slogan is “Know your farmer. Know your food\,” and they prioritize vendors who are committed to growing food and fostering a sense of community in Rolla. This event runs every Saturday from April to October. \n  \nHours:\n\nEvery Saturday 8 am-12 pm\n\n  \nVendors to Visit:\n\n\nBirch Creek Apiary\nBourbeuse Creek Mushrooms\nDeep Root Farm & Nursery\nMoonshadow Farm\nA&K Ranch\nEdison’s Pastures\nGoodland Natural Farms\nMast Family Creamery\nDaniel’s Roast\nHomestyle Baked Goods\nPure Land Homestead\nRemi’s Eats\nSweet Jen’s Macarons\nTarvin’s Treats\nWorthy Bread\nOzark Mountain Flowers\nCelebrate with Baby\nFred’s Woodworks\nSow Abundant\nTwelfth Oak\nAnd Many More!\n\n  \nWhat You’ll Find:\n\nHomegrown produce\nMeat\nEggs\nDairy Products\nBaked & Canned Goods\nAnd Handmade Artisan Crafts!\n\n  \nHelpful Tips!\nIt may be a good idea to bring a stroller for the comfort and safety of younger children. Some vendors may be cash only\, so plan accordingly. Parking will be available. They are located at 901 N Elm St. in Rolla. For more information or to become a vendor\, visit them online at their website or Facebook page! \n 
URL:https://springfieldkids.com/event/farmers-market-in-downtown-rolla/
LOCATION:Downtown Rolla\, 901 North Elm Street\, Rolla\, MO\, 65560\, United States
END:VEVENT
BEGIN:VEVENT
DTSTART;VALUE=DATE:20250403
DTEND;VALUE=DATE:20251031
DTSTAMP:20260421T063929
CREATED:20250822T191013Z
LAST-MODIFIED:20250822T191013Z
UID:2353-1743638400-1761868799@springfieldkids.com
SUMMARY:Greater Springfield Farmers' Market
DESCRIPTION:At the Greater Springfield Farmers’ Market\, all vendors\, vendors’ families\, or employers produce their own farm-raised or handcrafted products. This helps the market ensure their commitment to only selling personally planted\, grown\, and harvested food stays true. Located at the corner of Glenstone and Battlefield\, Springfield’s second busiest intersection\, this weekly event always draws a crowd. Come experience Missouri’s largest producer-only market! \n  \nHours:\n\nSaturdays from 8 am-12 pm (Year-Round)\nTuesdays & Thursdays 8 am-12 pm (April-October)\n\n  \nWhat You’ll Won’t Find:\n\nA Farm to Table Journey Longer than 100 Miles\nResale Items\n\n  \nWhat You Will Find:\n\n\nCanned and Pickled Goods\nSweet Corn\nHandcrafted\, Artisan Items\nGreenhouse Goods\nFresh\, Local Produce\nBaked Goods\nMeats\nCeramics\nCustom Desserts\nHoney\nFlorals\nAnd Much More!\n\n  \nHighlighted Amenities:\n\nExpansive\, Free On-Site Parking\nHigh-Profile Location\nLocated Next To Battlefield Mall\nLeashed Animals Welcome at the Event\n\n  \nHelpful Tips!\nIt may be a good idea to bring a stroller for the comfort and safety of younger children. This event is held near an extremely busy road\, but is contained within a large parking lot which provides some distance. Some vendors may be cash only\, so plan accordingly. If you want to make a day of it\, stop by Battlefield Mall afterward for extended shopping! If you’re interested in becoming a vendor\, please visit the Greater Springfield Farmers’ Market for additional information. The event address is 2825 S Glenstone Ave. STE 101 in Springfield.
URL:https://springfieldkids.com/event/greater-springfield-farmers-market/
LOCATION:2825 S Glenstone Ave\, 2825 S Glenstone Ave. Ste 101\, Springfield\, MO\, 65804\, United States
ORGANIZER;CN="Greater Springfield Farmers' Market":MAILTO:gsfmmanager20@gmail.com
END:VEVENT
END:VCALENDAR